BEGIN:VCALENDAR
VERSION:2.0
PRODID:-//Beachburg Agricultural Society - ECPv6.13.2.1//NONSGML v1.0//EN
CALSCALE:GREGORIAN
METHOD:PUBLISH
X-ORIGINAL-URL:https://beachburgfair.ca
X-WR-CALDESC:Events for Beachburg Agricultural Society
REFRESH-INTERVAL;VALUE=DURATION:PT1H
X-Robots-Tag:noindex
X-PUBLISHED-TTL:PT1H
BEGIN:VTIMEZONE
TZID:UTC
BEGIN:STANDARD
TZOFFSETFROM:+0000
TZOFFSETTO:+0000
TZNAME:UTC
DTSTART:20240101T000000
END:STANDARD
END:VTIMEZONE
BEGIN:VEVENT
DTSTART;TZID=UTC:20250613T180000
DTEND;TZID=UTC:20250613T210000
DTSTAMP:20260423T174828
CREATED:20250423T003519Z
LAST-MODIFIED:20250423T003519Z
UID:3613-1749837600-1749848400@beachburgfair.ca
SUMMARY:Dinner & Magic Show
DESCRIPTION:Join us for a fun evening of dinner and a show… \nStretching Reality – the Magic of Steven Anthony! \nSteven Anthony has been a professional entertainer in the Ottawa Valley for over 20 years and you will be left amazed by his performance! \nMingle Magic & Cocktail Hour: 6pm -7pm\nDinner: 7pm\nShow: 8pm \nDinner catered by Neil & Connie Hawthorne \nTickets $50/person (incl. HST) – includes Dinner\, Show & Drink
URL:https://beachburgfair.ca/event/dinner-magic-show/
END:VEVENT
BEGIN:VEVENT
DTSTART;TZID=UTC:20250530T183000
DTEND;TZID=UTC:20250530T213000
DTSTAMP:20260423T174828
CREATED:20250423T001627Z
LAST-MODIFIED:20250423T001627Z
UID:3607-1748629800-1748640600@beachburgfair.ca
SUMMARY:Beachburg Trivia Night
DESCRIPTION:Trivia night is back! Join a community of trivia nerds and good timers for an evening of quiz and fun! \nDoors Open 6:30pm\nTrivia 7pm\n$60/team of 4-6 players \nFormat: 3 rounds of general trivia \nCash prize! Door prizes! Complimentary Snacks! Cash bar! Good times! \nCash prize & snacks donated by Heliconia Press – big thanks! \nRegister your team by emailing beachburgfair@gmail.com
URL:https://beachburgfair.ca/event/beachburg-trivia-night/
ORGANIZER;CN="Beachburg Agricultural Society":MAILTO:beachburgfair@gmail.com
END:VEVENT
BEGIN:VEVENT
DTSTART;TZID=UTC:20250427T100000
DTEND;TZID=UTC:20250427T140000
DTSTAMP:20260423T174828
CREATED:20250423T002046Z
LAST-MODIFIED:20250423T002046Z
UID:3611-1745748000-1745762400@beachburgfair.ca
SUMMARY:Fairgrounds Cleanup Day!
DESCRIPTION:Join your community for a fairgrounds cleanup. Together we will prepare the fairgrounds for community and recreation use. Tasks available for all ages\, skills and capabilities. \nPizza lunch at 12:30pm \nSee you there!
URL:https://beachburgfair.ca/event/fairgrounds-cleanup-day/
ORGANIZER;CN="Beachburg Agricultural Society":MAILTO:beachburgfair@gmail.com
END:VEVENT
BEGIN:VEVENT
DTSTART;TZID=UTC:20241121T190000
DTEND;TZID=UTC:20241121T210000
DTSTAMP:20260423T174828
CREATED:20241106T232004Z
LAST-MODIFIED:20241107T021626Z
UID:3284-1732215600-1732222800@beachburgfair.ca
SUMMARY:Annual General Meeting
DESCRIPTION:The Beachburg Agricultural Society invites everyone out to our Annual General Meeting taking place on Thursday November 21st from 7pm – 9pm at Beachburg Lions Hall (9 Hannah Street\, Beachburg). Light refreshments will be served. \nThe meeting is open to all – including BAS members\, volunteers\, the local community\, and anyone who may be interested in learning more about the incredible year we’ve had with the Beachburg Agricultural Society and Beachburg Fair. \nAttendees can expect to hear an annual report\, followed by a financial report and elections for our 2025 Board of Directors. \nMemberships can be purchased at the AGM or in advance by sending an e-transfer to beachburgfair@gmail.com. Memberships are $5 and our 2024 memberships can be purchased up until the closing of the AGM (after which\, any memberships purchased will be for the 2025 year and later). \nOur board is seeking a number of new directors and nominations are welcome! All nominees must have their memberships paid up for the 2023\, 2024 and 2025 fair years. Nominations can be emailed to beachburgfair@gmail.com. \nWe are seeking to fill the following: President\, 1st Vice President\, 2nd Vice President and 5 Directors seats. \nTo receive a digital AGM package in advance\, please RSVP at the following link: https://forms.gle/UDmMUWJx466JZymaA
URL:https://beachburgfair.ca/event/annual-general-meeting/
ORGANIZER;CN="Beachburg Agricultural Society":MAILTO:beachburgfair@gmail.com
END:VEVENT
BEGIN:VEVENT
DTSTART;TZID=UTC:20240111T140000
DTEND;TZID=UTC:20240111T160000
DTSTAMP:20260423T174828
CREATED:20240105T190426Z
LAST-MODIFIED:20240105T190426Z
UID:2821-1704981600-1704988800@beachburgfair.ca
SUMMARY:In the Know Workshop
DESCRIPTION:Farmers are on the front line in supporting mental health in agriculture. \nIn the Know is a FREE mental health literacy program designed specifically for farmers\, their families and those who are involved and/or support the agriculture sector. Through this free\, four-hour workshop\, participants will cover the topics of stress\, depression\, anxiety\, substance use and how to start a conversation around mental well-being. The workshops are facilitated by one of CMHA’s mental health professionals using ‘real-life’ examples from agriculture. \nKasia Gourmet Kitchen will be serving lunch. \nTo register\, email the general Beachburg Ag Society’s email account: beachburgfair@gmail.com or contact one of the BAS Directors \n 
URL:https://beachburgfair.ca/event/in-the-know-workshop/
LOCATION:Beachburg Lion’s Hall\, Canada
ORGANIZER;CN="Beachburg Agricultural Society":MAILTO:beachburgfair@gmail.com
END:VEVENT
END:VCALENDAR